BEGIN:VCALENDAR
VERSION:2.0
PRODID:-//East Staffordshire Flying Club - ECPv6.2.5//NONSGML v1.0//EN
CALSCALE:GREGORIAN
METHOD:PUBLISH
X-ORIGINAL-URL:https://esfc.club
X-WR-CALDESC:Events for East Staffordshire Flying Club
REFRESH-INTERVAL;VALUE=DURATION:PT1H
X-Robots-Tag:noindex
X-PUBLISHED-TTL:PT1H
BEGIN:VTIMEZONE
TZID:Europe/London
BEGIN:DAYLIGHT
TZOFFSETFROM:+0000
TZOFFSETTO:+0100
TZNAME:BST
DTSTART:20260329T010000
END:DAYLIGHT
BEGIN:STANDARD
TZOFFSETFROM:+0100
TZOFFSETTO:+0000
TZNAME:GMT
DTSTART:20261025T010000
END:STANDARD
END:VTIMEZONE
BEGIN:VEVENT
DTSTART;TZID=Europe/London:20260129T140000
DTEND;TZID=Europe/London:20260129T160000
DTSTAMP:20260421T135503
CREATED:20260106T124530Z
LAST-MODIFIED:20260106T125635Z
UID:3313-1769695200-1769702400@esfc.club
SUMMARY:EMA ATC
DESCRIPTION:EMA Controllers\, Martin and Zara\, will be in The Squadron Office on the afternoon of 29th January for a cuppa and a chat with anyone wanting to ask any questions and to put the faces behind the voices. This is also a chance for Martin and Zara to ask questions of us\, and gain a GA pilot’s perspective. Call in any time between 1400 – 1600.
URL:https://esfc.club/event/ema-atc/
LOCATION:Tatenhill Airfield\, Tatenhill Airfield\, Burton on Trent\, Staffordshire\, DE13 9PD\, United Kingdom
ORGANIZER;CN="ESFC":MAILTO:events@esfc.club
END:VEVENT
END:VCALENDAR